BEGIN:VCALENDAR
VERSION:2.0
PRODID:Events Booking
BEGIN:VEVENT
UID:69e661fd43949
SUMMARY:KDY Akademi - Yachtskipper 1
DESCRIPTION:
LOCATION:Rungsted Havn 22\, 2960 Rungsted Kyst\, Danmark
DTSTART:20260427T120000Z
DTEND:20260427T180000Z
DTSTAMP:20260331T041944Z
ORGANIZER;CN=Danish Yacht Union:MAILTO:administration@danishyachtunion.dk
GEO:55.885143;12.547447
X-APPLE-STRUCTURED-LOCATION;VALUE=URI;X-ADDRESS=Rungsted Havn 22\, 2960 Run
 gsted Kyst\, Danmark;X-APPLE-RADIUS=72;X-TITLE=Rungsted Havn:55.885143;12.
 547447
END:VEVENT
END:VCALENDAR