BEGIN:VCALENDAR
VERSION:2.0
PRODID:Events Booking
BEGIN:VEVENT
UID:69e6366133f30
SUMMARY:Polar Geographic - speedbåd
DESCRIPTION:
LOCATION:Prins Knuds Dæmning 1\, Dragør\, 2791 Region Hovedstaden\, Danma
 rk
DTSTART:20260517T140000Z
DTEND:20260517T160000Z
DTSTAMP:20260317T130003Z
ORGANIZER;CN=Danish Yacht Union:MAILTO:administration@danishyachtunion.dk
GEO:55.588775;12.678483
X-APPLE-STRUCTURED-LOCATION;VALUE=URI;X-ADDRESS=Prins Knuds Dæmning 1\, Dr
 agør\, 2791 Region Hovedstaden\, Danmark;X-APPLE-RADIUS=72;X-TITLE=Dragø
 r Ungdomsskole (Prins Knuds Dæmning):55.588775;12.678483
END:VEVENT
END:VCALENDAR