BEGIN:VCALENDAR
VERSION:2.0
PRODID:Events Booking
BEGIN:VEVENT
UID:69e7617554fb0
SUMMARY:speedbaaden.dk /Patrick
DESCRIPTION:
LOCATION:Søhesten 3B\, 2635 Ishøj
DTSTART:20260424T120000Z
DTEND:20260424T143000Z
DTSTAMP:20260331T065619Z
ORGANIZER;CN=Danish Yacht Union:MAILTO:administration@danishyachtunion.dk
GEO:55;0
X-APPLE-STRUCTURED-LOCATION;VALUE=URI;X-ADDRESS=Søhesten 3B\, 2635 Ishøj;
 X-APPLE-RADIUS=72;X-TITLE=Ishøj Havn:55;0
END:VEVENT
END:VCALENDAR