BEGIN:VCALENDAR
VERSION:2.0
PRODID:Events Booking
BEGIN:VEVENT
UID:69e76b267eee2
SUMMARY:Privatprøve Keld Holse - duelighed teori - online
DESCRIPTION:
LOCATION:Online
DTSTART:20260516T100000Z
DTEND:20260516T120000Z
DTSTAMP:20260327T173945Z
ORGANIZER;CN=Danish Yacht Union:MAILTO:administration@danishyachtunion.dk
END:VEVENT
END:VCALENDAR