BEGIN:VCALENDAR
VERSION:2.0
PRODID:Events Booking
BEGIN:VEVENT
UID:69e8bb202fa44
SUMMARY:Watergames Als - vandscooter
DESCRIPTION:
LOCATION:Sønderborg Kommune\, 6430 Region Syddanmark\, Danmark
DTSTART:20260425T090000Z
DTEND:20260425T120000Z
DTSTAMP:20260421T115959Z
ORGANIZER;CN=Danish Yacht Union:MAILTO:administration@danishyachtunion.dk
GEO:55.011332;9.780218
X-APPLE-STRUCTURED-LOCATION;VALUE=URI;X-ADDRESS=Sønderborg Kommune\, 6430 
 Region Syddanmark\, Danmark;X-APPLE-RADIUS=72;X-TITLE=Watergames - Havneve
 j 1\, Als/Nordborg:55.011332;9.780218
END:VEVENT
END:VCALENDAR