BEGIN:VCALENDAR
VERSION:2.0
PRODID:Events Booking
BEGIN:VEVENT
UID:69e8a4ce65873
SUMMARY:Sejlerkort.dk - Speedbådsprøve - Høruphav Havn
DESCRIPTION:
LOCATION:Høruphav Havn 1\, Sydals\, 6470 Region Syddanmark\, Danmark
DTSTART:20260620T093000Z
DTEND:20260620T123000Z
DTSTAMP:20260115T165125Z
ORGANIZER;CN=Danish Yacht Union:MAILTO:administration@danishyachtunion.dk
GEO:54.907874;9.889878
X-APPLE-STRUCTURED-LOCATION;VALUE=URI;X-ADDRESS=Høruphav Havn 1\, Sydals\,
  6470 Region Syddanmark\, Danmark;X-APPLE-RADIUS=72;X-TITLE=Hørup Havn:54
 .907874;9.889878
END:VEVENT
END:VCALENDAR