BEGIN:VCALENDAR
VERSION:2.0
PRODID:Events Booking
BEGIN:VEVENT
UID:69e6099fac077
SUMMARY:Nautic Marine - Skovshoved - Speedbådsprøve
DESCRIPTION:
LOCATION:Skovshoved Havn 4\, 2920 Charlottenlund
DTSTART:20260606T110000Z
DTEND:20260606T130000Z
DTSTAMP:20260407T093209Z
ORGANIZER;CN=Danish Yacht Union:MAILTO:administration@danishyachtunion.dk
GEO:55.760569;12.599599
X-APPLE-STRUCTURED-LOCATION;VALUE=URI;X-ADDRESS=Skovshoved Havn 4\, 2920 Ch
 arlottenlund;X-APPLE-RADIUS=72;X-TITLE=Skovshoved Havn:55.760569;12.599599
END:VEVENT
END:VCALENDAR