BEGIN:VCALENDAR
VERSION:2.0
PRODID:Events Booking
BEGIN:VEVENT
UID:69e8ab14adff4
SUMMARY:Unik sejlskole - speedbåd
DESCRIPTION:
LOCATION:Juelsminde\, Danmark
DTSTART:20260425T110000Z
DTEND:20260425T133000Z
DTSTAMP:20260413T083634Z
ORGANIZER;CN=Danish Yacht Union:MAILTO:administration@danishyachtunion.dk
GEO:55.708806;10.017873
X-APPLE-STRUCTURED-LOCATION;VALUE=URI;X-ADDRESS=Juelsminde\, Danmark;X-APPL
 E-RADIUS=72;X-TITLE=Juelsminde Havn:55.708806;10.017873
END:VEVENT
END:VCALENDAR